BEGIN:VCALENDAR
VERSION:2.0
PRODID:-//Plone.org//NONSGML plone.app.event//EN
X-WR-TIMEZONE:Europe/Brussels
BEGIN:VEVENT
SUMMARY:WOMEN IN SCIENCE @ UNamur | IN-PERSON EVENT!
DTSTART;VALUE=DATE:20220427
DTEND;VALUE=DATE:20220429
DTSTAMP;VALUE=DATE-TIME:20260424T120702Z
UID:a6bd1f22f8c34a24bdca002faf54613f
CONTACT:Sébastien MOUCHET\, sebastien.mouchet@unamur.be
CREATED;VALUE=DATE-TIME:20220323T102118Z
LAST-MODIFIED;VALUE=DATE-TIME:20220323T102119Z
URL:https://nism.unamur.be/events/women-in-science-unamur-in-person-event
END:VEVENT
END:VCALENDAR
