BEGIN:VCALENDAR
VERSION:2.0
PRODID:-//Plone.org//NONSGML plone.app.event//EN
X-WR-TIMEZONE:Europe/Brussels
BEGIN:VEVENT
SUMMARY:Women and Girls in Science @ UNamur
DTSTART;VALUE=DATE:20220211
DTEND;VALUE=DATE:20220212
DTSTAMP;VALUE=DATE-TIME:20260424T134641Z
UID:67f4049e652b4895b434b08f934ceaa0
CONTACT:Sébastien MOUCHET\, sebastien.mouchet@unamur.be
CREATED;VALUE=DATE-TIME:20211028T124228Z
DESCRIPTION:11 February 2022 | 2nd edition
LAST-MODIFIED;VALUE=DATE-TIME:20220203T110754Z
URL:https://nism.unamur.be/events/women-and-girls-in-science-unamur
END:VEVENT
END:VCALENDAR
