BEGIN:VCALENDAR
VERSION:2.0
PRODID:-//Plone.org//NONSGML plone.app.event//EN
X-WR-TIMEZONE:Europe/Brussels
BEGIN:VEVENT
SUMMARY:Seminar : Dr. Andrea BONVICINI
DTSTART;TZID=Europe/Brussels;VALUE=DATE-TIME:20220317T161500
DTEND;TZID=Europe/Brussels;VALUE=DATE-TIME:20220317T171500
DTSTAMP;VALUE=DATE-TIME:20260424T120221Z
UID:1202109f8a384e16af8063dd4a7545b9
CONTACT:Prof. Benoît Champagne\, benoit.champagne@unamur.be
CREATED;VALUE=DATE-TIME:20220307T093329Z
DESCRIPTION:"Theoretical studies of linear and nonlinear optical propertie
 s of biomolecules"
LAST-MODIFIED;VALUE=DATE-TIME:20220307T093411Z
LOCATION:Faculty of Sciences\,  Chemistry & Physics building\, Auditorium 
 CH21 (2nd floor)
URL:https://nism.unamur.be/events/seminar-dr-andrea-bonvicini
END:VEVENT
BEGIN:VTIMEZONE
TZID:Europe/Brussels
X-LIC-LOCATION:Europe/Brussels
BEGIN:STANDARD
DTSTART;VALUE=DATE-TIME:20211031T020000
TZNAME:CET
TZOFFSETFROM:+0200
TZOFFSETTO:+0100
END:STANDARD
END:VTIMEZONE
END:VCALENDAR
