BEGIN:VCALENDAR
VERSION:2.0
PRODID:-//Plone.org//NONSGML plone.app.event//EN
X-WR-TIMEZONE:Europe/Brussels
BEGIN:VEVENT
SUMMARY:Séminaire : Dr Philippe Degée
DTSTART;TZID=Europe/Brussels;VALUE=DATE-TIME:20220316T104000
DTEND;TZID=Europe/Brussels;VALUE=DATE-TIME:20220316T114000
DTSTAMP;VALUE=DATE-TIME:20260424T120109Z
UID:b727191d1d214aa38d24b430dfd62979
CONTACT:Dr. Sébastien MOUCHET\, sebastien.mouchet@unamur.be
CREATED;VALUE=DATE-TIME:20220307T084858Z
DESCRIPTION:"Valorisation et Propriété Intellectuelle des recherches en 
 Sciences des Matériaux"
LAST-MODIFIED;VALUE=DATE-TIME:20220307T085057Z
LOCATION:Faculté des Sciences\, Auditoire S05 (rez-de-chaussée)
URL:https://nism.unamur.be/events/seminaire-dr-philippe-degee
END:VEVENT
BEGIN:VTIMEZONE
TZID:Europe/Brussels
X-LIC-LOCATION:Europe/Brussels
BEGIN:STANDARD
DTSTART;VALUE=DATE-TIME:20211031T020000
TZNAME:CET
TZOFFSETFROM:+0200
TZOFFSETTO:+0100
END:STANDARD
END:VTIMEZONE
END:VCALENDAR
