BEGIN:VCALENDAR
VERSION:2.0
PRODID:-//Plone.org//NONSGML plone.app.event//EN
X-WR-TIMEZONE:Europe/Brussels
BEGIN:VEVENT
SUMMARY:Séminaire : Dr Aline Wilmet
DTSTART;TZID=Europe/Brussels;VALUE=DATE-TIME:20220309T104000
DTEND;TZID=Europe/Brussels;VALUE=DATE-TIME:20220309T114000
DTSTAMP;VALUE=DATE-TIME:20260424T120402Z
UID:a8518eb7650e4a398ee61625ae95c61b
CONTACT:Dr. Sébastien MOUCHET\, sebastien.mouchet@unamur.be
CREATED;VALUE=DATE-TIME:20220307T085635Z
DESCRIPTION:“Communication scientifique par l'affiche”
LAST-MODIFIED;VALUE=DATE-TIME:20220307T085837Z
LOCATION:Faculté des Sciences\, Auditoire S05 (rez-de-chaussée)
URL:https://nism.unamur.be/events/seminaire-dr-aline-wilmet
END:VEVENT
BEGIN:VTIMEZONE
TZID:Europe/Brussels
X-LIC-LOCATION:Europe/Brussels
BEGIN:STANDARD
DTSTART;VALUE=DATE-TIME:20211031T020000
TZNAME:CET
TZOFFSETFROM:+0200
TZOFFSETTO:+0100
END:STANDARD
END:VTIMEZONE
END:VCALENDAR
