BEGIN:VCALENDAR
VERSION:2.0
PRODID:-//Plone.org//NONSGML plone.app.event//EN
X-WR-TIMEZONE:Europe/Brussels
BEGIN:VEVENT
SUMMARY:naXys - NISM seminar | "The new generations of active-layer materi
 als for organic electronics: Recent advances" by Prof. Jean-Luc Brédas
DTSTART;TZID=Europe/Brussels;VALUE=DATE-TIME:20230609T110000
DTEND;TZID=Europe/Brussels;VALUE=DATE-TIME:20230609T130000
DTSTAMP;VALUE=DATE-TIME:20260424T120811Z
UID:67d31b786232488eb54593b4682cf5be
CONTACT:Prof. Yoann Olivier\, yoann.olivier@unamur.be
CREATED;VALUE=DATE-TIME:20230530T141712Z
DESCRIPTION:The NISM and naXys research institutes have the pleasure to we
 lcome Prof. Jean-Luc Brédas from the University of Arizona\, USA\, for a 
 talk entitled "The new generations of active-layer materials for organic e
 lectronics: Recent advances"
LAST-MODIFIED;VALUE=DATE-TIME:20230530T141915Z
LOCATION:Aula Maior\, Faculté de Philosophie et Lettres
URL:https://nism.unamur.be/events/naxys-nism-seminar-the-new-generations-o
 f-active-layer-materials-for-organic-electronics-recent-advances-by-prof-j
 ean-luc-bredas
END:VEVENT
BEGIN:VTIMEZONE
TZID:Europe/Brussels
X-LIC-LOCATION:Europe/Brussels
BEGIN:DAYLIGHT
DTSTART;VALUE=DATE-TIME:20230326T030000
TZNAME:CEST
TZOFFSETFROM:+0100
TZOFFSETTO:+0200
END:DAYLIGHT
END:VTIMEZONE
END:VCALENDAR
