BEGIN:VCALENDAR
VERSION:2.0
PRODID:-//Plone.org//NONSGML plone.app.event//EN
X-WR-TIMEZONE:Europe/Brussels
BEGIN:VEVENT
SUMMARY:Journée des Instituts
DTSTART;VALUE=DATE:20211005
DTEND;VALUE=DATE:20211006
DTSTAMP;VALUE=DATE-TIME:20260424T134202Z
UID:065f1a0753654966b3ad2c5d68b0864e
CREATED;VALUE=DATE-TIME:20210922T073033Z
DESCRIPTION:The day of research institutes
LAST-MODIFIED;VALUE=DATE-TIME:20210922T074153Z
LOCATION:University of Namur
URL:https://nism.unamur.be/events/journee-des-instituts
END:VEVENT
END:VCALENDAR
