BEGIN:VCALENDAR
VERSION:2.0
PRODID:-//Plone.org//NONSGML plone.app.event//EN
X-WR-TIMEZONE:Europe/Brussels
BEGIN:VEVENT
SUMMARY:Current trends in membrane protein biophysics
DTSTART;VALUE=DATE:20211203
DTEND;VALUE=DATE:20211204
DTSTAMP;VALUE=DATE-TIME:20260424T134425Z
UID:ab56afde177c472d849fb529f217befc
CONTACT:Prof. Catherine MICHAUX\, catherine.michaux@unamur.be
CREATED;VALUE=DATE-TIME:20210907T102211Z
DESCRIPTION:3rd one-day symposium
LAST-MODIFIED;VALUE=DATE-TIME:20210908T074710Z
LOCATION:University of Namur\, Chemistry Department\, CH01
URL:https://nism.unamur.be/events/current-trends-in-membrane-protein-bioph
 ysics
END:VEVENT
END:VCALENDAR
