BEGIN:VCALENDAR
VERSION:2.0
PRODID:-//Plone.org//NONSGML plone.app.event//EN
X-WR-TIMEZONE:Europe/Brussels
BEGIN:VEVENT
SUMMARY:BOSS XVII - 17th Belgian Organic Synthesis Symposium
DTSTART;VALUE=DATE:20220703
DTEND;VALUE=DATE:20220709
DTSTAMP;VALUE=DATE-TIME:20260424T134602Z
UID:cd14627250ca481cb8afeb9543461fdf
CONTACT:https://www.boss-symposium.org/
CREATED;VALUE=DATE-TIME:20211115T102845Z
LAST-MODIFIED;VALUE=DATE-TIME:20211115T102845Z
URL:https://nism.unamur.be/events/boss-xvii-17th-belgian-organic-synthesis
 -symposium
END:VEVENT
END:VCALENDAR
