BEGIN:VCALENDAR
VERSION:2.0
PRODID:-//Plone.org//NONSGML plone.app.event//EN
X-WR-TIMEZONE:Europe/Brussels
BEGIN:VEVENT
SUMMARY:bePOM 2021
DTSTART;VALUE=DATE:20210923
DTEND;VALUE=DATE:20210925
DTSTAMP;VALUE=DATE-TIME:20260424T133912Z
UID:567d5ebbcff14a03bf275d1583452149
CONTACT:Sébastien MOUCHET\, sebastien.mouchet@unamur.be
CREATED;VALUE=DATE-TIME:20210609T071200Z
DESCRIPTION:Second edition of the Belgian Photonics Online Meetup
LAST-MODIFIED;VALUE=DATE-TIME:20210609T071201Z
URL:https://nism.unamur.be/events/bepom-2021
END:VEVENT
END:VCALENDAR
