BEGIN:VCALENDAR
VERSION:2.0
PRODID:-//Plone.org//NONSGML plone.app.event//EN
X-WR-TIMEZONE:Europe/Brussels
BEGIN:VEVENT
SUMMARY:NISM Annual Meeting 2023
DTSTART;TZID=Europe/Brussels;VALUE=DATE-TIME:20231218T090000
DTEND;TZID=Europe/Brussels;VALUE=DATE-TIME:20231218T173000
DTSTAMP;VALUE=DATE-TIME:20260424T120222Z
UID:9638fb43135c429a893535527b1a3bc1
CONTACT:NISM Executive Assistant\, executive-assistant.nism@unamur.be\, ht
 tps://nism.unamur.be/events-corner/annual-meeting-2023/
CREATED;VALUE=DATE-TIME:20231115T160120Z
LAST-MODIFIED;VALUE=DATE-TIME:20231115T172532Z
LOCATION:Terranova\, Citadel of Namur
URL:https://nism.unamur.be/events/nism-annual-meeting-2023
END:VEVENT
BEGIN:VEVENT
SUMMARY:Séminaire en Sciences du Patrimoine | Seminar in Heritage Science
DTSTART;TZID=Europe/Brussels;VALUE=DATE-TIME:20230912T083000
DTEND;TZID=Europe/Brussels;VALUE=DATE-TIME:20230912T170000
DTSTAMP;VALUE=DATE-TIME:20260424T120222Z
UID:66d89dc1b854459aa33887aa34d11e1c
CONTACT:Julien Colaux (NISM) & Nicolas Ruffini-Ronzani (PaTHs)\, evenement
 s@unamur.be
CREATED;VALUE=DATE-TIME:20230317T100451Z
LAST-MODIFIED;VALUE=DATE-TIME:20230508T131520Z
LOCATION:Auditoire S09 (Faculté des sciences) - à confirmer  | Room S09 
 (Faculty of sciences) - to be confirmed
URL:https://nism.unamur.be/events/12-september-2023-seminar-in-heritage-sc
 ience
END:VEVENT
BEGIN:VEVENT
SUMMARY:naXys - NISM seminar | "The new generations of active-layer materi
 als for organic electronics: Recent advances" by Prof. Jean-Luc Brédas
DTSTART;TZID=Europe/Brussels;VALUE=DATE-TIME:20230609T110000
DTEND;TZID=Europe/Brussels;VALUE=DATE-TIME:20230609T130000
DTSTAMP;VALUE=DATE-TIME:20260424T120222Z
UID:67d31b786232488eb54593b4682cf5be
CONTACT:Prof. Yoann Olivier\, yoann.olivier@unamur.be
CREATED;VALUE=DATE-TIME:20230530T141712Z
DESCRIPTION:The NISM and naXys research institutes have the pleasure to we
 lcome Prof. Jean-Luc Brédas from the University of Arizona\, USA\, for a 
 talk entitled "The new generations of active-layer materials for organic e
 lectronics: Recent advances"
LAST-MODIFIED;VALUE=DATE-TIME:20230530T141915Z
LOCATION:Aula Maior\, Faculté de Philosophie et Lettres
URL:https://nism.unamur.be/events/naxys-nism-seminar-the-new-generations-o
 f-active-layer-materials-for-organic-electronics-recent-advances-by-prof-j
 ean-luc-bredas
END:VEVENT
BEGIN:VEVENT
SUMMARY:bePOM | 3rd edition
DTSTART;VALUE=DATE:20220928
DTEND;VALUE=DATE:20220930
DTSTAMP;VALUE=DATE-TIME:20260424T120222Z
UID:36e2ae88c2c2408dbefa108afa8db76a
CONTACT:Info bePOM\, info@bepom.org\, https://www.bepom.org
CREATED;VALUE=DATE-TIME:20220830T075803Z
DESCRIPTION:bePOM is back with a 2-day free hybrid event: 1 day fully onli
 ne | one day hybrid online/onsite @VUB
LAST-MODIFIED;VALUE=DATE-TIME:20220830T080053Z
LOCATION:Online and at VUB (29/9)
URL:https://nism.unamur.be/events/bepom-3rd-edition
END:VEVENT
BEGIN:VEVENT
SUMMARY:NISM Annual Meeting 2022
DTSTART;TZID=Europe/Brussels;VALUE=DATE-TIME:20220906T090000
DTEND;TZID=Europe/Brussels;VALUE=DATE-TIME:20220906T182000
DTSTAMP;VALUE=DATE-TIME:20260424T120222Z
UID:ffae122786cd45d1ac34cd23efac3f3c
CONTACT:NISM Executive Assistant\, executive-assistant.nism@unamur.be\, ht
 tps://nism.unamur.be/events-corner/annual-meeting-2022/
CREATED;VALUE=DATE-TIME:20211115T103313Z
LAST-MODIFIED;VALUE=DATE-TIME:20220830T075946Z
LOCATION:Terranova\, Citadel of Namur
URL:https://nism.unamur.be/events/nism-annual-meeting-2022
END:VEVENT
BEGIN:VEVENT
SUMMARY:BOSS XVII - 17th Belgian Organic Synthesis Symposium
DTSTART;VALUE=DATE:20220703
DTEND;VALUE=DATE:20220709
DTSTAMP;VALUE=DATE-TIME:20260424T120222Z
UID:cd14627250ca481cb8afeb9543461fdf
CONTACT:https://www.boss-symposium.org/
CREATED;VALUE=DATE-TIME:20211115T102845Z
LAST-MODIFIED;VALUE=DATE-TIME:20211115T102845Z
URL:https://nism.unamur.be/events/boss-xvii-17th-belgian-organic-synthesis
 -symposium
END:VEVENT
BEGIN:VEVENT
SUMMARY:WOMEN IN SCIENCE @ UNamur | IN-PERSON EVENT!
DTSTART;VALUE=DATE:20220427
DTEND;VALUE=DATE:20220429
DTSTAMP;VALUE=DATE-TIME:20260424T120222Z
UID:a6bd1f22f8c34a24bdca002faf54613f
CONTACT:Sébastien MOUCHET\, sebastien.mouchet@unamur.be
CREATED;VALUE=DATE-TIME:20220323T102118Z
LAST-MODIFIED;VALUE=DATE-TIME:20220323T102119Z
URL:https://nism.unamur.be/events/women-in-science-unamur-in-person-event
END:VEVENT
BEGIN:VEVENT
SUMMARY:Seminar : Dr. Andrea BONVICINI
DTSTART;TZID=Europe/Brussels;VALUE=DATE-TIME:20220317T161500
DTEND;TZID=Europe/Brussels;VALUE=DATE-TIME:20220317T171500
DTSTAMP;VALUE=DATE-TIME:20260424T120222Z
UID:1202109f8a384e16af8063dd4a7545b9
CONTACT:Prof. Benoît Champagne\, benoit.champagne@unamur.be
CREATED;VALUE=DATE-TIME:20220307T093329Z
DESCRIPTION:"Theoretical studies of linear and nonlinear optical propertie
 s of biomolecules"
LAST-MODIFIED;VALUE=DATE-TIME:20220307T093411Z
LOCATION:Faculty of Sciences\,  Chemistry & Physics building\, Auditorium 
 CH21 (2nd floor)
URL:https://nism.unamur.be/events/seminar-dr-andrea-bonvicini
END:VEVENT
BEGIN:VEVENT
SUMMARY:Séminaire : Dr Philippe Degée
DTSTART;TZID=Europe/Brussels;VALUE=DATE-TIME:20220316T104000
DTEND;TZID=Europe/Brussels;VALUE=DATE-TIME:20220316T114000
DTSTAMP;VALUE=DATE-TIME:20260424T120222Z
UID:b727191d1d214aa38d24b430dfd62979
CONTACT:Dr. Sébastien MOUCHET\, sebastien.mouchet@unamur.be
CREATED;VALUE=DATE-TIME:20220307T084858Z
DESCRIPTION:"Valorisation et Propriété Intellectuelle des recherches en 
 Sciences des Matériaux"
LAST-MODIFIED;VALUE=DATE-TIME:20220307T085057Z
LOCATION:Faculté des Sciences\, Auditoire S05 (rez-de-chaussée)
URL:https://nism.unamur.be/events/seminaire-dr-philippe-degee
END:VEVENT
BEGIN:VEVENT
SUMMARY:Séminaire : Dr Aline Wilmet
DTSTART;TZID=Europe/Brussels;VALUE=DATE-TIME:20220309T104000
DTEND;TZID=Europe/Brussels;VALUE=DATE-TIME:20220309T114000
DTSTAMP;VALUE=DATE-TIME:20260424T120222Z
UID:a8518eb7650e4a398ee61625ae95c61b
CONTACT:Dr. Sébastien MOUCHET\, sebastien.mouchet@unamur.be
CREATED;VALUE=DATE-TIME:20220307T085635Z
DESCRIPTION:“Communication scientifique par l'affiche”
LAST-MODIFIED;VALUE=DATE-TIME:20220307T085837Z
LOCATION:Faculté des Sciences\, Auditoire S05 (rez-de-chaussée)
URL:https://nism.unamur.be/events/seminaire-dr-aline-wilmet
END:VEVENT
BEGIN:VEVENT
SUMMARY:Women and Girls in Science @ UNamur
DTSTART;VALUE=DATE:20220211
DTEND;VALUE=DATE:20220212
DTSTAMP;VALUE=DATE-TIME:20260424T120222Z
UID:67f4049e652b4895b434b08f934ceaa0
CONTACT:Sébastien MOUCHET\, sebastien.mouchet@unamur.be
CREATED;VALUE=DATE-TIME:20211028T124228Z
DESCRIPTION:11 February 2022 | 2nd edition
LAST-MODIFIED;VALUE=DATE-TIME:20220203T110754Z
URL:https://nism.unamur.be/events/women-and-girls-in-science-unamur
END:VEVENT
BEGIN:VEVENT
SUMMARY:Seminar by Dr. Peter Vancso
DTSTART;TZID=Europe/Brussels;VALUE=DATE-TIME:20211207T110000
DTEND;TZID=Europe/Brussels;VALUE=DATE-TIME:20211207T120000
DTSTAMP;VALUE=DATE-TIME:20260424T120222Z
UID:c765178aa8dd46799b9ba165531cbe90
CONTACT:Prof. Luc HENRARD\, luc.henrard@unamur.be\, For teams link: contac
 t Prof. Luc HENRARD
CREATED;VALUE=DATE-TIME:20211124T100549Z
DESCRIPTION:"Strongly correlated electronic ground state in rhombohedral g
 raphite"
LAST-MODIFIED;VALUE=DATE-TIME:20211124T100550Z
LOCATION:Online (Teams: Seminar channel of the NISM Team)
URL:https://nism.unamur.be/events/seminar-by-dr-peter-vancso
END:VEVENT
BEGIN:VEVENT
SUMMARY:Current trends in membrane protein biophysics
DTSTART;VALUE=DATE:20211203
DTEND;VALUE=DATE:20211204
DTSTAMP;VALUE=DATE-TIME:20260424T120222Z
UID:ab56afde177c472d849fb529f217befc
CONTACT:Prof. Catherine MICHAUX\, catherine.michaux@unamur.be
CREATED;VALUE=DATE-TIME:20210907T102211Z
DESCRIPTION:3rd one-day symposium
LAST-MODIFIED;VALUE=DATE-TIME:20210908T074710Z
LOCATION:University of Namur\, Chemistry Department\, CH01
URL:https://nism.unamur.be/events/current-trends-in-membrane-protein-bioph
 ysics
END:VEVENT
BEGIN:VEVENT
SUMMARY:Seminar: Dr. Nicolas Daugey
DTSTART;TZID=Europe/Brussels;VALUE=DATE-TIME:20211028T163000
DTEND;TZID=Europe/Brussels;VALUE=DATE-TIME:20211028T173000
DTSTAMP;VALUE=DATE-TIME:20260424T120222Z
UID:c8fce8a006a74e4ca49eb715b75163c9
CONTACT:Prof. Vincent Liégeois\, vincent.liegeois@unamur.be
CREATED;VALUE=DATE-TIME:20211025T091818Z
DESCRIPTION:Raman optical activity of cryptophane derivatives and tri-coba
 lt complexes
LAST-MODIFIED;VALUE=DATE-TIME:20211025T091818Z
LOCATION:University of Namur\, Chemistry Department\, CH21
URL:https://nism.unamur.be/events/seminar-dr-nicolas-daugey
END:VEVENT
BEGIN:VEVENT
SUMMARY:Seminar: Prof. Shigehiro YAMAGUCHI
DTSTART;TZID=Europe/Brussels;VALUE=DATE-TIME:20211022T090000
DTEND;TZID=Europe/Brussels;VALUE=DATE-TIME:20211022T100000
DTSTAMP;VALUE=DATE-TIME:20260424T120222Z
UID:93bee3438c5b489891c008305357d341
CONTACT:Prof. Guillaume BERIONNI\, guillaume.berionni@unamur.be\, Request 
 from contact\, if not a NISM member
CREATED;VALUE=DATE-TIME:20210907T092140Z
DESCRIPTION:« Boron and Phosphorus-Containing pi-Electron Materials for S
 upramolecular Polymerization and Fluorescence Imaging »
LAST-MODIFIED;VALUE=DATE-TIME:20210907T092701Z
LOCATION:Online (Teams: Seminar channel of the NISM Team)
URL:https://nism.unamur.be/events/seminar-prof-shigehiro-yamaguchi
END:VEVENT
BEGIN:VEVENT
SUMMARY:Journée des Instituts
DTSTART;VALUE=DATE:20211005
DTEND;VALUE=DATE:20211006
DTSTAMP;VALUE=DATE-TIME:20260424T120222Z
UID:065f1a0753654966b3ad2c5d68b0864e
CREATED;VALUE=DATE-TIME:20210922T073033Z
DESCRIPTION:The day of research institutes
LAST-MODIFIED;VALUE=DATE-TIME:20210922T074153Z
LOCATION:University of Namur
URL:https://nism.unamur.be/events/journee-des-instituts
END:VEVENT
BEGIN:VEVENT
SUMMARY:bePOM 2021
DTSTART;VALUE=DATE:20210923
DTEND;VALUE=DATE:20210925
DTSTAMP;VALUE=DATE-TIME:20260424T120222Z
UID:567d5ebbcff14a03bf275d1583452149
CONTACT:Sébastien MOUCHET\, sebastien.mouchet@unamur.be
CREATED;VALUE=DATE-TIME:20210609T071200Z
DESCRIPTION:Second edition of the Belgian Photonics Online Meetup
LAST-MODIFIED;VALUE=DATE-TIME:20210609T071201Z
URL:https://nism.unamur.be/events/bepom-2021
END:VEVENT
BEGIN:VEVENT
SUMMARY:Living Light online meeting for Early Career Researchers
DTSTART;TZID=Europe/Brussels;VALUE=DATE-TIME:20210922T140000
DTEND;TZID=Europe/Brussels;VALUE=DATE-TIME:20210923T100000
DTSTAMP;VALUE=DATE-TIME:20260424T120222Z
UID:e58bb34a92ef4933ac6300b1d5d33520
CONTACT:Sébastien MOUCHET\, sebastien.mouchet@unamur.be
CREATED;VALUE=DATE-TIME:20210413T123737Z
LAST-MODIFIED;VALUE=DATE-TIME:20210517T080552Z
LOCATION:Online
URL:https://nism.unamur.be/events/living-light-online-meeting-for-early-ca
 reer-researchers
END:VEVENT
BEGIN:VEVENT
SUMMARY:Theoretical Predictions of Superconducting and Superhard Materials
DTSTART;TZID=Europe/Brussels;VALUE=DATE-TIME:20210526T153000
DTEND;TZID=Europe/Brussels;VALUE=DATE-TIME:20210526T163000
DTSTAMP;VALUE=DATE-TIME:20260424T120222Z
UID:b4c5ed8fc1494abd83273191eec7bc8a
CONTACT:Yoann Olivier\, yoann.olivier@unamur.be
CREATED;VALUE=DATE-TIME:20210316T155651Z
DESCRIPTION:Prof. Eva Zurek (Chemistry departement\, Buffalo University\, 
 USA)
LAST-MODIFIED;VALUE=DATE-TIME:20210525T071500Z
LOCATION:Online (Teams: Seminar channel of the NISM Team)
URL:https://nism.unamur.be/events/electronic-structure-and-reactivity-of-m
 olecules-nanosystems-and-solids
END:VEVENT
BEGIN:VEVENT
SUMMARY:Seminar: 2D materials electronic properties
DTSTART;TZID=Europe/Brussels;VALUE=DATE-TIME:20210430T125000
DTEND;TZID=Europe/Brussels;VALUE=DATE-TIME:20210430T135000
DTSTAMP;VALUE=DATE-TIME:20260424T120222Z
UID:91eb3e2ab5a547dc980d34e0064e52d0
CONTACT:Yoann Olivier\, yoann.olivier@unamur.be
CREATED;VALUE=DATE-TIME:20210316T155244Z
DESCRIPTION:Prof. Sylvain Latil (CEA researcher fellow\, Service de Physiq
 ue de la Matière Condensée\, France)
LAST-MODIFIED;VALUE=DATE-TIME:20210426T065148Z
LOCATION:Online (Teams)
URL:https://nism.unamur.be/events/seminar-2d-materials-electronic-properti
 es
END:VEVENT
BEGIN:VEVENT
SUMMARY:Seminar: Excited state dynamics
DTSTART;TZID=Europe/Brussels;VALUE=DATE-TIME:20210408T125000
DTEND;TZID=Europe/Brussels;VALUE=DATE-TIME:20210408T135000
DTSTAMP;VALUE=DATE-TIME:20260424T120222Z
UID:741fea6c04d44278868b41eb0f9b4dd0
CONTACT:Yoann Olivier\, yoann.olivier@unamur.be
CREATED;VALUE=DATE-TIME:20210316T154222Z
DESCRIPTION:Prof. Leticia Gonzalez (University of Vienna\, Austria)
LAST-MODIFIED;VALUE=DATE-TIME:20210316T154248Z
LOCATION:Online (Teams)
URL:https://nism.unamur.be/events/seminar-excited-state-dynamics
END:VEVENT
BEGIN:VEVENT
SUMMARY:Seminar: Embedded many-body perturbation theory for the electronic
  properties of organic systems
DTSTART;TZID=Europe/Brussels;VALUE=DATE-TIME:20210323T125000
DTEND;TZID=Europe/Brussels;VALUE=DATE-TIME:20210323T135000
DTSTAMP;VALUE=DATE-TIME:20260424T120222Z
UID:1e101df5aa4e457e83b1cfb00b0c5506
CONTACT:Yoann Olivier\, yoann.olivier@unamur.be
CREATED;VALUE=DATE-TIME:20210309T140936Z
DESCRIPTION:Prof. Xavier Blase (CNRS Rsearch Director\, CNRS Grenoble\, Fr
 ance)
LAST-MODIFIED;VALUE=DATE-TIME:20210316T155455Z
LOCATION:Online
URL:https://nism.unamur.be/events/seminar-embedded-many-body-perturbation-
 theory-for-the-electronic-properties-of-organic-systems
END:VEVENT
BEGIN:VEVENT
SUMMARY:Seminar: PhD Laura LE BRAS
DTSTART;TZID=Europe/Brussels;VALUE=DATE-TIME:20210212T160000
DTEND;TZID=Europe/Brussels;VALUE=DATE-TIME:20210212T170000
DTSTAMP;VALUE=DATE-TIME:20260424T120222Z
UID:eb8db01dee83401ab34b7d813800fb6b
CONTACT:Laura LE BRAS\, laura.lebras@unamur.be\, https://teams.microsoft.c
 om/l/channel/19%3a18aecf126fe544a3ba2a2e66b929597d%40thread.tacv2/G%25C3%2
 5A9n%25C3%25A9ral?groupId=56e7a801-1494-4775-8052-4a36a880a11c&tenantId=5f
 31c5b4-f2e8-4772-8dd6-f268037b1eca
CREATED;VALUE=DATE-TIME:20210203T103001Z
DESCRIPTION:WHEN LIGHT MET MATTERS: A CHALLENGE FOR COMPUTATIONAL CHEMISTR
 Y
LAST-MODIFIED;VALUE=DATE-TIME:20210203T104404Z
LOCATION:Online (Teams)
URL:https://nism.unamur.be/events/seminar-phd-laura-le-bras
END:VEVENT
BEGIN:VEVENT
SUMMARY:International Day of Women and Girls in Science at UNamur
DTSTART;TZID=Europe/Brussels;VALUE=DATE-TIME:20210211T140000
DTEND;TZID=Europe/Brussels;VALUE=DATE-TIME:20210211T170000
DTSTAMP;VALUE=DATE-TIME:20260424T120222Z
UID:3776c9b869f94284b62536e3c37b3e7b
CONTACT:Sébastien MOUCHET\, sebastien.mouchet@unamur.be
CREATED;VALUE=DATE-TIME:20210127T093634Z
LAST-MODIFIED;VALUE=DATE-TIME:20210127T093634Z
URL:https://nism.unamur.be/events/international-day-of-women-and-girls-in-
 science-at-unamur
END:VEVENT
BEGIN:VEVENT
SUMMARY:NISM annual meeting - 2020
DTSTART;VALUE=DATE:20201120
DTEND;VALUE=DATE:20201121
DTSTAMP;VALUE=DATE-TIME:20260424T120222Z
UID:27f2cbf4034c41f4baa3f31b5fb664d1
CONTACT:Becher HAJ IBRAHIM\, executive-assistant.nism@unamur.be
CREATED;VALUE=DATE-TIME:20200916T095152Z
LAST-MODIFIED;VALUE=DATE-TIME:20201119T132551Z
URL:https://nism.unamur.be/events/nism-annual-meeting-november-2020
END:VEVENT
BEGIN:VEVENT
SUMMARY:Seminar: PhD Tom CARDEYNAELS
DTSTART;TZID=Europe/Brussels;VALUE=DATE-TIME:20201117T160000
DTEND;TZID=Europe/Brussels;VALUE=DATE-TIME:20201117T164500
DTSTAMP;VALUE=DATE-TIME:20260424T120222Z
UID:bb9d57e7065547eaa1d2be906b6502cc
CREATED;VALUE=DATE-TIME:20201112T134318Z
DESCRIPTION:Public seminar
LAST-MODIFIED;VALUE=DATE-TIME:20201112T134351Z
URL:https://nism.unamur.be/events/seminar-of-phd-tom-cardeynaels
END:VEVENT
BEGIN:VEVENT
SUMMARY:bePOM - Belgian Photonics Online Meetup
DTSTART;VALUE=DATE:20200911
DTEND;VALUE=DATE:20200912
DTSTAMP;VALUE=DATE-TIME:20260424T120222Z
UID:25570c11a81f43779dac4ca0bde29d35
CONTACT:Sébastien MOUCHET\, sebastien.mouchet@unamur.be\, https://summer-
 school.unamur.be/bepom
CREATED;VALUE=DATE-TIME:20200908T083518Z
LAST-MODIFIED;VALUE=DATE-TIME:20200908T083518Z
LOCATION:Virtual conference
URL:https://nism.unamur.be/events/bepom-belgian-photonics-online-meetup
END:VEVENT
BEGIN:VEVENT
SUMMARY:Seminar : prof. Rajesh GANESAN
DTSTART;TZID=Europe/Brussels;VALUE=DATE-TIME:20200706T110000
DTEND;TZID=Europe/Brussels;VALUE=DATE-TIME:20200706T120000
DTSTAMP;VALUE=DATE-TIME:20260424T120222Z
UID:037bff7386b441ddac89ca11e326cb90
CONTACT:Emile Haye\, emile.haye@unamur.be
CREATED;VALUE=DATE-TIME:20200629T105447Z
DESCRIPTION:« Highly tetrahedral amorphous carbon films by HiPIMS »
LAST-MODIFIED;VALUE=DATE-TIME:20200629T105742Z
LOCATION:Physics and Chemistry Department - auditorium CH01
URL:https://nism.unamur.be/events/seminar-prof-rajesh-ganesan
END:VEVENT
BEGIN:VEVENT
SUMMARY:Seminar : prof. Rim LAGGOUN
DTSTART;TZID=Europe/Brussels;VALUE=DATE-TIME:20200228T140000
DTEND;TZID=Europe/Brussels;VALUE=DATE-TIME:20200228T150000
DTSTAMP;VALUE=DATE-TIME:20260424T120222Z
UID:2b2afb5a9f7c43bebe58ebd7e14c743e
CONTACT:Prof. Zineb MEKHALIF\, zineb.mekhalif@unamur.be
CREATED;VALUE=DATE-TIME:20200225T084915Z
DESCRIPTION:"Comportement électrochimique du cuivre en milieux acide en p
 résence de différentes substances inhibitrices"
LAST-MODIFIED;VALUE=DATE-TIME:20200225T085214Z
LOCATION:Chemistry & Physics building\, Room CH22 (2nd floor)
URL:https://nism.unamur.be/events/seminar-prof-rim-laggoun
END:VEVENT
BEGIN:VEVENT
SUMMARY:Seminar: prof. Marc Gingras
DTSTART;TZID=Europe/Brussels;VALUE=DATE-TIME:20200226T170000
DTEND;TZID=Europe/Brussels;VALUE=DATE-TIME:20200226T180000
DTSTAMP;VALUE=DATE-TIME:20260424T120222Z
UID:81e21ba051ff4267a892fb5f732fba8e
CONTACT:Guillaume Berionni\, guillaume.berionni@unamur.be\, https://agenda
 .unamur.be/upevent.2020-02-10.7894221481
CREATED;VALUE=DATE-TIME:20200211T122632Z
DESCRIPTION:« Twisting Molecules Toward Chirality: Helicenes and Nanograp
 henes with Record Distortions »
LAST-MODIFIED;VALUE=DATE-TIME:20200211T123005Z
LOCATION:Physics and Chemistry Department - auditorium CH22
URL:https://nism.unamur.be/events/seminar-prof-marc-gingras
END:VEVENT
BEGIN:VEVENT
SUMMARY:Symposium: Computational and Theoretical Condensed Matter Physics
DTSTART;VALUE=DATE:20191217
DTEND;VALUE=DATE:20191219
DTSTAMP;VALUE=DATE-TIME:20260424T120222Z
UID:36357bf88efc4581b0e87922d94c84e5
CONTACT:Vincent Meunier\, vincent.meunier@unamur.be
CREATED;VALUE=DATE-TIME:20191021T091946Z
LAST-MODIFIED;VALUE=DATE-TIME:20191105T141752Z
URL:https://nism.unamur.be/events/symposium-computational-and-theoretical-
 condensed-matter-physics
END:VEVENT
BEGIN:VEVENT
SUMMARY:Current trends in membrane protein biophysics
DTSTART;VALUE=DATE:20191206
DTEND;VALUE=DATE:20191207
DTSTAMP;VALUE=DATE-TIME:20260424T120222Z
UID:2bb89ba119094f36b40e447ac559afce
CONTACT:Catherine Michaux\, catherine.michaux@unamur.be
CREATED;VALUE=DATE-TIME:20190826T103527Z
DESCRIPTION:Second one-day symposium
LAST-MODIFIED;VALUE=DATE-TIME:20190826T104012Z
LOCATION:UNIVERSITY OF NAMUR\, Business & Learning Center
URL:https://nism.unamur.be/events/second-symposium-on-current-trends-in-me
 mbrane-protein-biophysics
END:VEVENT
BEGIN:VEVENT
SUMMARY:Seminar: Prof. Vincent Meunier
DTSTART;TZID=Europe/Brussels;VALUE=DATE-TIME:20191205T110000
DTSTAMP;VALUE=DATE-TIME:20260424T120222Z
UID:72a2a8d8a58549f29cc405f08e8838c6
CONTACT:Luc HENRARD\, luc.henrard@unamur.be
CREATED;VALUE=DATE-TIME:20191118T095606Z
DESCRIPTION:"Low-frequency vibrations in low-dimensional structures"
LAST-MODIFIED;VALUE=DATE-TIME:20191125T101556Z
LOCATION:Academic room (5th floor) - Chemistry & Physics building
URL:https://nism.unamur.be/events/seminar-prof-vincent-meunier
END:VEVENT
BEGIN:VEVENT
SUMMARY:Seminar: Andrey V. Kaziev\, PhD
DTSTART;TZID=Europe/Brussels;VALUE=DATE-TIME:20191128T150000
DTEND;TZID=Europe/Brussels;VALUE=DATE-TIME:20191128T160000
DTSTAMP;VALUE=DATE-TIME:20260424T120222Z
UID:fbf9233856474794aee33e21e72bb5e6
CONTACT:Pavel MOSKOVKIN\, pavel.moskovkim@unamur.be
CREATED;VALUE=DATE-TIME:20191126T140504Z
DESCRIPTION:High power pulsed magnetron sputtering of metals\, oxides\, an
 d nitrides\, hot and liquid target magnetrons for µm/min-rate deposition
LAST-MODIFIED;VALUE=DATE-TIME:20191126T140600Z
LOCATION:UNamur\, Chemistry building\, 2nd floor\, room CH22
URL:https://nism.unamur.be/events/seminar-andrey-v-kaziev-phd
END:VEVENT
BEGIN:VEVENT
SUMMARY:Seminar: Dr. Ouanassa GUELLATI
DTSTART;TZID=Europe/Brussels;VALUE=DATE-TIME:20191107T104000
DTEND;TZID=Europe/Brussels;VALUE=DATE-TIME:20191107T114000
DTSTAMP;VALUE=DATE-TIME:20260424T120222Z
UID:ce6dedb755b64846a43346c0878943e4
CONTACT:Zineb MEKHALIF\, zineb.mekhalif@unamur.be
CREATED;VALUE=DATE-TIME:20191031T174110Z
DESCRIPTION:1D\, 2D and 3D Nanostructured Materials for Energy Storage and
  Biosensing
LAST-MODIFIED;VALUE=DATE-TIME:20191031T174143Z
LOCATION:Academic room (5th floor) - Chemistry & Physics building
URL:https://nism.unamur.be/events/seminar-dr-ouanassa-guellati
END:VEVENT
BEGIN:VEVENT
SUMMARY:Seminar : Dr. Didier Bourissou
DTSTART;TZID=Europe/Brussels;VALUE=DATE-TIME:20191106T170000
DTEND;TZID=Europe/Brussels;VALUE=DATE-TIME:20191106T180000
DTSTAMP;VALUE=DATE-TIME:20260424T120222Z
UID:0313cd4215af4283a2d1066f63393fe9
CONTACT:Guillaume Berionni\, 081724537\, guillaume.berionni@unamur.be\, ht
 tps://agenda.unamur.be/upevent.2019-10-10.0952243293
CREATED;VALUE=DATE-TIME:20191021T080622Z
DESCRIPTION:“Non-innocent Bifunctional Ligands for New Avenues in Pallad
 ium and Gold Chemistry”
LAST-MODIFIED;VALUE=DATE-TIME:20191021T122207Z
LOCATION:UNamur\, Chemistry building\, 2nd floor\, room CH22
URL:https://nism.unamur.be/events/seminar-dr-didier-bourissou
END:VEVENT
BEGIN:VEVENT
SUMMARY:Seminar : Dr. Aurélien BESNARD
DTSTART;TZID=Europe/Brussels;VALUE=DATE-TIME:20191028T090000
DTEND;TZID=Europe/Brussels;VALUE=DATE-TIME:20191028T100000
DTSTAMP;VALUE=DATE-TIME:20260424T120222Z
UID:b932a1869b6b4767bb4d84947498a7f8
CONTACT:Benoît Champagne\, benoit.champagne@unamur.be
CREATED;VALUE=DATE-TIME:20191022T124555Z
DESCRIPTION:« Les alliages métalliques : du liquide au solide\, un état
  quasi statique »
LAST-MODIFIED;VALUE=DATE-TIME:20191022T124556Z
LOCATION:UNamur\, Rue de Bruxelles\, 61\, Main Building\, Auditorium B08 (
 ground floor)
URL:https://nism.unamur.be/events/seminar-dr-aurelien-besnard
END:VEVENT
BEGIN:VEVENT
SUMMARY:Seminar: Prof. Wais Hosseini
DTSTART;TZID=Europe/Brussels;VALUE=DATE-TIME:20191024T103000
DTSTAMP;VALUE=DATE-TIME:20260424T120222Z
UID:ec9c26acf3ff4f97ba039a5c6989ad12
CONTACT:Guillaume Berionni\, guillaume.berionni@unamur.be
CREATED;VALUE=DATE-TIME:20191021T125214Z
DESCRIPTION:“Molecular tectonics\, a construction strategy that bridges 
 the gap between microscopic (atoms and molecules) and macroscopic (materia
 ls) worlds”
LAST-MODIFIED;VALUE=DATE-TIME:20191021T125536Z
LOCATION:Auditorium CH21 (2nd floor) - Chemistry & Physics building
URL:https://nism.unamur.be/events/seminar-prof-wais-hosseini
END:VEVENT
BEGIN:VEVENT
SUMMARY:Seminar : Dr. Péter Vancsó
DTSTART;TZID=Europe/Brussels;VALUE=DATE-TIME:20191009T160000
DTEND;TZID=Europe/Brussels;VALUE=DATE-TIME:20191009T170000
DTSTAMP;VALUE=DATE-TIME:20260424T120222Z
UID:6e4c789125fc4677bd952e22fa194fcc
CONTACT:Luc HENRARD\, luc.henrard@unamur.be
CREATED;VALUE=DATE-TIME:20190926T075528Z
DESCRIPTION:« Defects related properties in two-dimensional MoS2: Experim
 ent and Theory »
LAST-MODIFIED;VALUE=DATE-TIME:20190926T085259Z
LOCATION:Auditorium CH21 (2nd floor) - Chemistry & Physics building
URL:https://nism.unamur.be/events/seminar-dr-peter-vancso
END:VEVENT
BEGIN:VEVENT
SUMMARY:Seminar : Dr. Neha Tripathi
DTSTART;TZID=Europe/Brussels;VALUE=DATE-TIME:20191008T140000
DTEND;TZID=Europe/Brussels;VALUE=DATE-TIME:20191008T150000
DTSTAMP;VALUE=DATE-TIME:20260424T120222Z
UID:ccf219ec2e704690944a6aaefd9ca337
CONTACT:Laurence LEHERTE\, laurence.leherte@unamur.be
CREATED;VALUE=DATE-TIME:20190926T073015Z
DESCRIPTION:Application of Molecular Modeling Techniques in Drug Discovery
LAST-MODIFIED;VALUE=DATE-TIME:20190926T085230Z
LOCATION:Chemistry building\, 5th floor\, academic room
URL:https://nism.unamur.be/events/lecture-dr-neha-tripathi
END:VEVENT
BEGIN:VEVENT
SUMMARY:Lecture : Prof. Vincent MEUNIER
DTSTART;TZID=Europe/Brussels;VALUE=DATE-TIME:20191004T083000
DTEND;TZID=Europe/Brussels;VALUE=DATE-TIME:20191004T103000
DTSTAMP;VALUE=DATE-TIME:20260424T120222Z
UID:c71915dcbf814c47981310b09d17462f
CONTACT:Luc HENRARD\, luc.henrard@unamur.be
CREATED;VALUE=DATE-TIME:20190926T082817Z
DESCRIPTION:"A conceptual introduction to Density Functional Theory (DFT)"
LAST-MODIFIED;VALUE=DATE-TIME:20190926T082818Z
LOCATION:Salle Académique (5th floor) - Chemistry & Physics building
URL:https://nism.unamur.be/events/lecture-prof-vincent-meunier
END:VEVENT
BEGIN:VEVENT
SUMMARY:Seminar : Prof. Lorenzo MASCHIO
DTSTART;TZID=Europe/Brussels;VALUE=DATE-TIME:20191003T160000
DTEND;TZID=Europe/Brussels;VALUE=DATE-TIME:20191003T170000
DTSTAMP;VALUE=DATE-TIME:20260424T120222Z
UID:1b2967e9c99f43ec8b137192d0972243
CONTACT:Benoît Champagne\, benoit.champagne@unamur.be
CREATED;VALUE=DATE-TIME:20190910T122420Z
DESCRIPTION:CRYSTAL and CRYSCOR: two modern tools for the ab initio study 
 of crystalline solids. Recent developments and perspectives
LAST-MODIFIED;VALUE=DATE-TIME:20190926T085139Z
LOCATION:Physics and Chemistry Department - auditorium CH21
URL:https://nism.unamur.be/events/seminar-prof-lorenzo-maschio
END:VEVENT
BEGIN:VEVENT
SUMMARY:NISM annual meeting - September 2019
DTSTART;VALUE=DATE:20190920
DTEND;VALUE=DATE:20190921
DTSTAMP;VALUE=DATE-TIME:20260424T120222Z
UID:18ef1d59c7cd4b7aaa8cd1b9affc8d69
CONTACT:Becher Haj Ibrahim\, executive-assistant.nism@unamur.be
CREATED;VALUE=DATE-TIME:20190618T142053Z
DESCRIPTION:Invited lecturers and NISM members will contribute with the ou
 tcome of their scientific activities
LAST-MODIFIED;VALUE=DATE-TIME:20190917T152049Z
LOCATION:Namur University - Physics and Chemistry Department
URL:https://nism.unamur.be/events/nism-annual-meeting-september-2019
END:VEVENT
BEGIN:VEVENT
SUMMARY:Welcome seminar of Yoann Olivier
DTSTART;TZID=Europe/Brussels;VALUE=DATE-TIME:20190909T153000
DTEND;TZID=Europe/Brussels;VALUE=DATE-TIME:20190909T163000
DTSTAMP;VALUE=DATE-TIME:20260424T120222Z
UID:b9e963eeb22648f1a2727f48f57e7353
CONTACT:Yoann Olivier\, yoann.olivier@unamur.be
CREATED;VALUE=DATE-TIME:20190826T073343Z
DESCRIPTION:« Multiscale modelling of the optoelectronic properties of fu
 nctional pi-conjugated materials: A guide tour »
LAST-MODIFIED;VALUE=DATE-TIME:20190826T073343Z
LOCATION:Physics and Chemistry Department - auditorium CH12
URL:https://nism.unamur.be/events/welcome-seminar-of-yoann-olivier
END:VEVENT
BEGIN:VEVENT
SUMMARY:NISM annual meeting - September 2018
DTSTART;VALUE=DATE:20180921
DTEND;VALUE=DATE:20180922
DTSTAMP;VALUE=DATE-TIME:20260424T120222Z
UID:5963e3a1790f4aa29f8373d76594837b
CONTACT:Benoît Champagne
CREATED;VALUE=DATE-TIME:20190704T084925Z
LAST-MODIFIED;VALUE=DATE-TIME:20190704T084925Z
LOCATION:Namur University - Physics and Chemistry Department
URL:https://nism.unamur.be/events/nism-annual-meeting-september-2018
END:VEVENT
BEGIN:VTIMEZONE
TZID:Europe/Brussels
X-LIC-LOCATION:Europe/Brussels
BEGIN:DAYLIGHT
DTSTART;VALUE=DATE-TIME:20200329T030000
TZNAME:CEST
TZOFFSETFROM:+0100
TZOFFSETTO:+0200
END:DAYLIGHT
BEGIN:STANDARD
DTSTART;VALUE=DATE-TIME:20211031T020000
TZNAME:CET
TZOFFSETFROM:+0200
TZOFFSETTO:+0100
END:STANDARD
BEGIN:DAYLIGHT
DTSTART;VALUE=DATE-TIME:20210328T030000
TZNAME:CEST
TZOFFSETFROM:+0100
TZOFFSETTO:+0200
END:DAYLIGHT
BEGIN:STANDARD
DTSTART;VALUE=DATE-TIME:20231029T020000
TZNAME:CET
TZOFFSETFROM:+0200
TZOFFSETTO:+0100
END:STANDARD
BEGIN:DAYLIGHT
DTSTART;VALUE=DATE-TIME:20230326T030000
TZNAME:CEST
TZOFFSETFROM:+0100
TZOFFSETTO:+0200
END:DAYLIGHT
BEGIN:STANDARD
DTSTART;VALUE=DATE-TIME:20201025T020000
TZNAME:CET
TZOFFSETFROM:+0200
TZOFFSETTO:+0100
END:STANDARD
BEGIN:STANDARD
DTSTART;VALUE=DATE-TIME:20191027T020000
TZNAME:CET
TZOFFSETFROM:+0200
TZOFFSETTO:+0100
END:STANDARD
BEGIN:DAYLIGHT
DTSTART;VALUE=DATE-TIME:20220327T030000
TZNAME:CEST
TZOFFSETFROM:+0100
TZOFFSETTO:+0200
END:DAYLIGHT
BEGIN:DAYLIGHT
DTSTART;VALUE=DATE-TIME:20190331T030000
TZNAME:CEST
TZOFFSETFROM:+0100
TZOFFSETTO:+0200
END:DAYLIGHT
END:VTIMEZONE
END:VCALENDAR
